BEGIN:VCALENDAR
PRODID:-//github.com/ical-org/ical.net//NONSGML ical.net 4.0//EN
VERSION:2.0
BEGIN:VEVENT
DTEND:20260718T111500
DTSTAMP:20260424T093037Z
DTSTART:20260718T103000
LOCATION:Unity Church of Oak Park\, 405 N Euclid Oak Park\, IL 60304
SEQUENCE:0
SUMMARY:Mixed Age Class with Ms. Lauren
UID:9363053
END:VEVENT
BEGIN:VEVENT
DTEND:20260725T111500
DTSTAMP:20260424T093037Z
DTSTART:20260725T103000
LOCATION:Unity Church of Oak Park\, 405 N Euclid Oak Park\, IL 60304
SEQUENCE:0
SUMMARY:Mixed Age Class with Ms. Lauren
UID:9363054
END:VEVENT
BEGIN:VEVENT
DTEND:20260801T111500
DTSTAMP:20260424T093037Z
DTSTART:20260801T103000
LOCATION:Unity Church of Oak Park\, 405 N Euclid Oak Park\, IL 60304
SEQUENCE:0
SUMMARY:Mixed Age Class with Ms. Lauren
UID:9363055
END:VEVENT
BEGIN:VEVENT
DTEND:20260808T111500
DTSTAMP:20260424T093037Z
DTSTART:20260808T103000
LOCATION:Unity Church of Oak Park\, 405 N Euclid Oak Park\, IL 60304
SEQUENCE:0
SUMMARY:Mixed Age Class with Ms. Lauren
UID:9363056
END:VEVENT
BEGIN:VEVENT
DTEND:20260815T111500
DTSTAMP:20260424T093037Z
DTSTART:20260815T103000
LOCATION:Unity Church of Oak Park\, 405 N Euclid Oak Park\, IL 60304
SEQUENCE:0
SUMMARY:Mixed Age Class with Ms. Lauren
UID:9363057
END:VEVENT
BEGIN:VTIMEZONE
TZID:US/Central
X-LIC-LOCATION:US/Central
END:VTIMEZONE
END:VCALENDAR
