BEGIN:VCALENDAR
PRODID:-//github.com/ical-org/ical.net//NONSGML ical.net 4.0//EN
VERSION:2.0
BEGIN:VEVENT
DTEND:20260718T101500
DTSTAMP:20260424T093021Z
DTSTART:20260718T093000
LOCATION:Unity Church of Oak Park\, 405 N Euclid Oak Park\, IL 60304
SEQUENCE:0
SUMMARY:Mixed Age Class with Ms. Lauren
UID:9347004
END:VEVENT
BEGIN:VEVENT
DTEND:20260725T101500
DTSTAMP:20260424T093021Z
DTSTART:20260725T093000
LOCATION:Unity Church of Oak Park\, 405 N Euclid Oak Park\, IL 60304
SEQUENCE:0
SUMMARY:Mixed Age Class with Ms. Lauren
UID:9347005
END:VEVENT
BEGIN:VEVENT
DTEND:20260801T101500
DTSTAMP:20260424T093021Z
DTSTART:20260801T093000
LOCATION:Unity Church of Oak Park\, 405 N Euclid Oak Park\, IL 60304
SEQUENCE:0
SUMMARY:Mixed Age Class with Ms. Lauren
UID:9347006
END:VEVENT
BEGIN:VEVENT
DTEND:20260808T101500
DTSTAMP:20260424T093021Z
DTSTART:20260808T093000
LOCATION:Unity Church of Oak Park\, 405 N Euclid Oak Park\, IL 60304
SEQUENCE:0
SUMMARY:Mixed Age Class with Ms. Lauren
UID:9347007
END:VEVENT
BEGIN:VEVENT
DTEND:20260815T101500
DTSTAMP:20260424T093021Z
DTSTART:20260815T093000
LOCATION:Unity Church of Oak Park\, 405 N Euclid Oak Park\, IL 60304
SEQUENCE:0
SUMMARY:Mixed Age Class with Ms. Lauren
UID:9347008
END:VEVENT
BEGIN:VTIMEZONE
TZID:US/Central
X-LIC-LOCATION:US/Central
END:VTIMEZONE
END:VCALENDAR
