BEGIN:VCALENDAR
PRODID:-//github.com/ical-org/ical.net//NONSGML ical.net 4.0//EN
VERSION:2.0
BEGIN:VEVENT
DTEND:20260716T100000
DTSTAMP:20260424T092854Z
DTSTART:20260716T091500
LOCATION:Unity Church of Oak Park\, 405 N Euclid Oak Park\, IL 60304
SEQUENCE:0
SUMMARY:Mixed Age Class with TBD
UID:9346989
END:VEVENT
BEGIN:VEVENT
DTEND:20260723T100000
DTSTAMP:20260424T092854Z
DTSTART:20260723T091500
LOCATION:Unity Church of Oak Park\, 405 N Euclid Oak Park\, IL 60304
SEQUENCE:0
SUMMARY:Mixed Age Class with TBD
UID:9346990
END:VEVENT
BEGIN:VEVENT
DTEND:20260730T100000
DTSTAMP:20260424T092854Z
DTSTART:20260730T091500
LOCATION:Unity Church of Oak Park\, 405 N Euclid Oak Park\, IL 60304
SEQUENCE:0
SUMMARY:Mixed Age Class with TBD
UID:9346991
END:VEVENT
BEGIN:VEVENT
DTEND:20260806T100000
DTSTAMP:20260424T092854Z
DTSTART:20260806T091500
LOCATION:Unity Church of Oak Park\, 405 N Euclid Oak Park\, IL 60304
SEQUENCE:0
SUMMARY:Mixed Age Class with TBD
UID:9346992
END:VEVENT
BEGIN:VEVENT
DTEND:20260813T100000
DTSTAMP:20260424T092854Z
DTSTART:20260813T091500
LOCATION:Unity Church of Oak Park\, 405 N Euclid Oak Park\, IL 60304
SEQUENCE:0
SUMMARY:Mixed Age Class with TBD
UID:9346993
END:VEVENT
BEGIN:VTIMEZONE
TZID:US/Central
X-LIC-LOCATION:US/Central
END:VTIMEZONE
END:VCALENDAR
