BEGIN:VCALENDAR
PRODID:-//github.com/ical-org/ical.net//NONSGML ical.net 4.0//EN
VERSION:2.0
BEGIN:VEVENT
DTEND:20260715T101500
DTSTAMP:20260424T093210Z
DTSTART:20260715T093000
LOCATION:Unity Church of Oak Park\, 405 N Euclid Oak Park\, IL 60304
SEQUENCE:0
SUMMARY:Mixed Age Class with Ms. Brianne
UID:9346984
END:VEVENT
BEGIN:VEVENT
DTEND:20260722T101500
DTSTAMP:20260424T093210Z
DTSTART:20260722T093000
LOCATION:Unity Church of Oak Park\, 405 N Euclid Oak Park\, IL 60304
SEQUENCE:0
SUMMARY:Mixed Age Class with Ms. Brianne
UID:9346985
END:VEVENT
BEGIN:VEVENT
DTEND:20260729T101500
DTSTAMP:20260424T093210Z
DTSTART:20260729T093000
LOCATION:Unity Church of Oak Park\, 405 N Euclid Oak Park\, IL 60304
SEQUENCE:0
SUMMARY:Mixed Age Class with Ms. Brianne
UID:9346986
END:VEVENT
BEGIN:VEVENT
DTEND:20260805T101500
DTSTAMP:20260424T093210Z
DTSTART:20260805T093000
LOCATION:Unity Church of Oak Park\, 405 N Euclid Oak Park\, IL 60304
SEQUENCE:0
SUMMARY:Mixed Age Class with Ms. Brianne
UID:9346987
END:VEVENT
BEGIN:VEVENT
DTEND:20260812T101500
DTSTAMP:20260424T093210Z
DTSTART:20260812T093000
LOCATION:Unity Church of Oak Park\, 405 N Euclid Oak Park\, IL 60304
SEQUENCE:0
SUMMARY:Mixed Age Class with Ms. Brianne
UID:9346988
END:VEVENT
BEGIN:VTIMEZONE
TZID:US/Central
X-LIC-LOCATION:US/Central
END:VTIMEZONE
END:VCALENDAR
