BEGIN:VCALENDAR
PRODID:-//github.com/ical-org/ical.net//NONSGML ical.net 4.0//EN
VERSION:2.0
BEGIN:VEVENT
DTEND:20260714T171500
DTSTAMP:20260424T092706Z
DTSTART:20260714T163000
LOCATION:Unity Church of Oak Park\, 405 N Euclid Oak Park\, IL 60304
SEQUENCE:0
SUMMARY:Mixed Age Class with Ms. Brianne
UID:9346979
END:VEVENT
BEGIN:VEVENT
DTEND:20260721T171500
DTSTAMP:20260424T092706Z
DTSTART:20260721T163000
LOCATION:Unity Church of Oak Park\, 405 N Euclid Oak Park\, IL 60304
SEQUENCE:0
SUMMARY:Mixed Age Class with Ms. Brianne
UID:9346980
END:VEVENT
BEGIN:VEVENT
DTEND:20260728T171500
DTSTAMP:20260424T092706Z
DTSTART:20260728T163000
LOCATION:Unity Church of Oak Park\, 405 N Euclid Oak Park\, IL 60304
SEQUENCE:0
SUMMARY:Mixed Age Class with Ms. Brianne
UID:9346981
END:VEVENT
BEGIN:VEVENT
DTEND:20260804T171500
DTSTAMP:20260424T092706Z
DTSTART:20260804T163000
LOCATION:Unity Church of Oak Park\, 405 N Euclid Oak Park\, IL 60304
SEQUENCE:0
SUMMARY:Mixed Age Class with Ms. Brianne
UID:9346982
END:VEVENT
BEGIN:VEVENT
DTEND:20260811T171500
DTSTAMP:20260424T092706Z
DTSTART:20260811T163000
LOCATION:Unity Church of Oak Park\, 405 N Euclid Oak Park\, IL 60304
SEQUENCE:0
SUMMARY:Mixed Age Class with Ms. Brianne
UID:9346983
END:VEVENT
BEGIN:VTIMEZONE
TZID:US/Central
X-LIC-LOCATION:US/Central
END:VTIMEZONE
END:VCALENDAR
