BEGIN:VCALENDAR
PRODID:-//github.com/ical-org/ical.net//NONSGML ical.net 4.0//EN
VERSION:2.0
BEGIN:VEVENT
DTEND:20260714T101500
DTSTAMP:20260424T092721Z
DTSTART:20260714T093000
LOCATION:Unity Church of Oak Park\, 405 N Euclid Oak Park\, IL 60304
SEQUENCE:0
SUMMARY:Mixed Age Class with Ms. Katie
UID:9346969
END:VEVENT
BEGIN:VEVENT
DTEND:20260721T101500
DTSTAMP:20260424T092721Z
DTSTART:20260721T093000
LOCATION:Unity Church of Oak Park\, 405 N Euclid Oak Park\, IL 60304
SEQUENCE:0
SUMMARY:Mixed Age Class with Ms. Katie
UID:9346970
END:VEVENT
BEGIN:VEVENT
DTEND:20260728T101500
DTSTAMP:20260424T092721Z
DTSTART:20260728T093000
LOCATION:Unity Church of Oak Park\, 405 N Euclid Oak Park\, IL 60304
SEQUENCE:0
SUMMARY:Mixed Age Class with Ms. Katie
UID:9346971
END:VEVENT
BEGIN:VEVENT
DTEND:20260804T101500
DTSTAMP:20260424T092721Z
DTSTART:20260804T093000
LOCATION:Unity Church of Oak Park\, 405 N Euclid Oak Park\, IL 60304
SEQUENCE:0
SUMMARY:Mixed Age Class with Ms. Katie
UID:9346972
END:VEVENT
BEGIN:VEVENT
DTEND:20260811T101500
DTSTAMP:20260424T092721Z
DTSTART:20260811T093000
LOCATION:Unity Church of Oak Park\, 405 N Euclid Oak Park\, IL 60304
SEQUENCE:0
SUMMARY:Mixed Age Class with Ms. Katie
UID:9346973
END:VEVENT
BEGIN:VTIMEZONE
TZID:US/Central
X-LIC-LOCATION:US/Central
END:VTIMEZONE
END:VCALENDAR
